BEGIN:VCALENDAR
VERSION:2.0
PRODID:-//Oh Lardy - ECPv6.15.20//NONSGML v1.0//EN
CALSCALE:GREGORIAN
METHOD:PUBLISH
X-WR-CALNAME:Oh Lardy
X-ORIGINAL-URL:https://ohlardy.com
X-WR-CALDESC:Events for Oh Lardy
REFRESH-INTERVAL;VALUE=DURATION:PT1H
X-Robots-Tag:noindex
X-PUBLISHED-TTL:PT1H
BEGIN:VTIMEZONE
TZID:America/Chicago
BEGIN:DAYLIGHT
TZOFFSETFROM:-0600
TZOFFSETTO:-0500
TZNAME:CDT
DTSTART:20130310T080000
END:DAYLIGHT
BEGIN:STANDARD
TZOFFSETFROM:-0500
TZOFFSETTO:-0600
TZNAME:CST
DTSTART:20131103T070000
END:STANDARD
BEGIN:DAYLIGHT
TZOFFSETFROM:-0600
TZOFFSETTO:-0500
TZNAME:CDT
DTSTART:20140309T080000
END:DAYLIGHT
BEGIN:STANDARD
TZOFFSETFROM:-0500
TZOFFSETTO:-0600
TZNAME:CST
DTSTART:20141102T070000
END:STANDARD
BEGIN:DAYLIGHT
TZOFFSETFROM:-0600
TZOFFSETTO:-0500
TZNAME:CDT
DTSTART:20150308T080000
END:DAYLIGHT
BEGIN:STANDARD
TZOFFSETFROM:-0500
TZOFFSETTO:-0600
TZNAME:CST
DTSTART:20151101T070000
END:STANDARD
BEGIN:DAYLIGHT
TZOFFSETFROM:-0600
TZOFFSETTO:-0500
TZNAME:CDT
DTSTART:20160313T080000
END:DAYLIGHT
BEGIN:STANDARD
TZOFFSETFROM:-0500
TZOFFSETTO:-0600
TZNAME:CST
DTSTART:20161106T070000
END:STANDARD
BEGIN:DAYLIGHT
TZOFFSETFROM:-0600
TZOFFSETTO:-0500
TZNAME:CDT
DTSTART:20170312T080000
END:DAYLIGHT
BEGIN:STANDARD
TZOFFSETFROM:-0500
TZOFFSETTO:-0600
TZNAME:CST
DTSTART:20171105T070000
END:STANDARD
BEGIN:DAYLIGHT
TZOFFSETFROM:-0600
TZOFFSETTO:-0500
TZNAME:CDT
DTSTART:20180311T080000
END:DAYLIGHT
BEGIN:STANDARD
TZOFFSETFROM:-0500
TZOFFSETTO:-0600
TZNAME:CST
DTSTART:20181104T070000
END:STANDARD
BEGIN:DAYLIGHT
TZOFFSETFROM:-0600
TZOFFSETTO:-0500
TZNAME:CDT
DTSTART:20190310T080000
END:DAYLIGHT
BEGIN:STANDARD
TZOFFSETFROM:-0500
TZOFFSETTO:-0600
TZNAME:CST
DTSTART:20191103T070000
END:STANDARD
BEGIN:DAYLIGHT
TZOFFSETFROM:-0600
TZOFFSETTO:-0500
TZNAME:CDT
DTSTART:20200308T080000
END:DAYLIGHT
BEGIN:STANDARD
TZOFFSETFROM:-0500
TZOFFSETTO:-0600
TZNAME:CST
DTSTART:20201101T070000
END:STANDARD
BEGIN:DAYLIGHT
TZOFFSETFROM:-0600
TZOFFSETTO:-0500
TZNAME:CDT
DTSTART:20210314T080000
END:DAYLIGHT
BEGIN:STANDARD
TZOFFSETFROM:-0500
TZOFFSETTO:-0600
TZNAME:CST
DTSTART:20211107T070000
END:STANDARD
BEGIN:DAYLIGHT
TZOFFSETFROM:-0600
TZOFFSETTO:-0500
TZNAME:CDT
DTSTART:20220313T080000
END:DAYLIGHT
BEGIN:STANDARD
TZOFFSETFROM:-0500
TZOFFSETTO:-0600
TZNAME:CST
DTSTART:20221106T070000
END:STANDARD
END:VTIMEZONE
BEGIN:VEVENT
DTSTART;TZID=America/Chicago:20210223T190000
DTEND;TZID=America/Chicago:20210223T200000
DTSTAMP:20260419T071921
CREATED:20210214T211002Z
LAST-MODIFIED:20210214T211002Z
UID:25327-1614106800-1614110400@ohlardy.com
SUMMARY:Online Workshop - Fermented Fruits and Vegetables
DESCRIPTION:RSVP HERE: https://www.chicagomarket.coop/fermented_20210223\n \nJoin me and The Chicago Market for an informative and interactive workshop on fermented fruits and vegetables.\n \nWe'll learn what fermented foods are\, how they can benefit your healthy lifestyle\, and how to quickly and easily make them at home. I will demo and you will have the opportunity to make your own!\nClick here for a list of materials to have on hand if you'd like to follow along live and make fermented dilly carrots or green beans:\nhttps://d3n8a8pro7vhmx.cloudfront.net/chicagocooperative/pages/119/attachments/original/1611000531/fermented_workshop_materials.pdf?1611000531&fbclid=IwAR1o74J26MqJVm5EQGZR5IYRZi7PQJZ4MIu8F0RWF_vBuqSov2lvDfMgzns\n \n\nYou can also purchase my Guide to Fermenting Fruits and Vegetables available for purchase (use coupon code OHLARDY30 for 30% off).\n \nThis online session is free to attend\, but your $10 suggested donation helps support local businesses Chicago Market.\n \nAfter you click “Send RSVP” below\, an optional donation page will appear right below the confirmation text if you'd like to support us!\n \nRSVP below and let's get fermenting!\n\nhttps://www.chicagomarket.coop/fermented_20210223\n 
URL:https://ohlardy.com/event/online-workshop-fermented-fruits-and-vegetables/
LOCATION:ONLINE\, AZ\, United States
CATEGORIES:fermented foods,real food
END:VEVENT
BEGIN:VEVENT
DTSTART;TZID=America/Chicago:20200416T190000
DTEND;TZID=America/Chicago:20200416T200000
DTSTAMP:20260419T071921
CREATED:20200412T204815Z
LAST-MODIFIED:20200412T204815Z
UID:24735-1587063600-1587067200@ohlardy.com
SUMMARY:Wholehearted Wellness‎Eating for Immunity: Chocolate\, Superfood
DESCRIPTION:Join us for a FREE online Vegan Cooking & Nutrition Class (2 Part Zoom Series) with Plant-based Chef\, Kyleen Keenan! \nPart 1- Raw Chocolate and Superfoods! \nKy Keenan\, plant-based chef and holistic nutritionist\, will teach you how to make delicious\, healthy\, and easy chocolate in minutes with just a few simple ingredients. \nShe’ll even teach you how to incorporate Young Living Vitality Oils into your chocolate for the ultimate flavor kick! You will also learn some of the basics about superfoods and how to simply begin to incorporate them into your diet. Have this combo of knowledge in your arsenal and you’ll be feeling more energized and vibrant than ever! \n______________________________________________________ \nPart 2- Eating for Immunity- A Deep Dive into plant-based foods & environmental factors that impact your Immune System! \nIn this class you will learn-\n•Fundamentals of nutrition\, essential plant-centric cooking techniques\n•Why macronutrients\, vitamins\, minerals\, antioxidants and phytochemicals are important for a plant-based diet\n•Health-focused topics like inflammation\, allergens\, and how to navigate nutrition when following a plant based diet\n•How to make plant based food more accessible to you and your family \nRegister here:\nhttps://zoom.us/meeting/register/v5AkcOyprTspu8Hgyb5kMI-EzIIgBeljxQ \nMeet your Guest Speaker:\nPlant-based Chef\, Author\, Holistic Health Coach\, Guest Speaker\, & CEO/co-founder of Not Your Sugar Mamas\, a nationally distributed organic chocolate company and plant-based cafe on Martha’s Vineyard. Her work has been featured in the Vogue\, Real Simple\, Mind Body Green\, & more! Ky won the Star Chefs Rising Star Chef award in 2014!\nMom\, yogi\, environmentalist\, plant-based living advocate. \nhttps://kyleenkeenan.com/
URL:https://ohlardy.com/event/wholehearted-wellness%e2%80%8eeating-for-immunity-chocolate-superfood/
LOCATION:Zoom Call
CATEGORIES:real food
END:VEVENT
BEGIN:VEVENT
DTSTART;TZID=America/Chicago:20200223T090000
DTEND;TZID=America/Chicago:20200223T110000
DTSTAMP:20260419T071921
CREATED:20200203T220701Z
LAST-MODIFIED:20200203T220701Z
UID:24551-1582448400-1582455600@ohlardy.com
SUMMARY:Fitness and Recovery - Lake Forest
DESCRIPTION:Hey local peeps! Let's do our little part to help the people and furry friends in Australia! Join me for a fun run/walk on Feb.23rd with a fabulous wellness workshop to follow. Sign up at the Lake Forest lululemon store! \n 
URL:https://ohlardy.com/event/fitness-and-recovery-lake-forest/
LOCATION:AZ
CATEGORIES:essential oils,real food
END:VEVENT
BEGIN:VEVENT
DTSTART;TZID=America/Chicago:20191110T200000
DTEND;TZID=America/Chicago:20191110T210000
DTSTAMP:20260419T071921
CREATED:20191006T185039Z
LAST-MODIFIED:20191006T185039Z
UID:24417-1573416000-1573419600@ohlardy.com
SUMMARY:All About CBD - Online Webinar
DESCRIPTION:Register here:  https://zoom.us/webinar/register/WN_IVahe-dLSwqJwGJV4mvcQQ \n  \nCustomizing CBD with essential oils is the new frontier in health and wellness and we would\nlove to share what we have learned. We are so excited about the possibilities of using these\nproducts together! Please join us\, and invite a few friends! You can attend the whole\nclass in your pajamas\, on your smartphone\, and from the comfort of your couch in about\none hour. You don’t want to miss this – prepare to have your mind expanded! \nHave you ever wondered if CBD would be right for you? Do you know the benefits of\nCBD? Many people have misconceptions about this product and where it originated.\nCBD is the new frontier for plant-based wellness. \nJoin us as we discover the\nbenefits of CBD and how it can be customized to meet your individual needs using\nYoung Living’s Therapeutic Grade Essential Oils. \nBy registering you will also be able access the recording and I will email you a handy PDF!
URL:https://ohlardy.com/event/all-about-cbd-online-webinar/
LOCATION:Zoom Call
CATEGORIES:essential oils,real food
END:VEVENT
BEGIN:VEVENT
DTSTART;TZID=America/Chicago:20191018T091500
DTEND;TZID=America/Chicago:20191018T103000
DTSTAMP:20260419T071921
CREATED:20190920T210519Z
LAST-MODIFIED:20191001T185657Z
UID:24400-1571390100-1571394600@ohlardy.com
SUMMARY:Immune Supporting Elderberry Syrup - Lake Forest
DESCRIPTION:Register here:  https://www.eventbrite.com/e/immune-supporting-elderberry-workshop-lake-forest-tickets-73359729927 \n  \nElderberries are known for their potent anti-viral and immune boosting properties. They help prevent colds and flu\, and also shorten the duration of cold and flu symptoms when you are exposed to a virus. \nIn this beginner friendly class we will talk about the power of elderberries\, NingXia wolfberries and other tips to support your immune system naturally. I will show you step-by-step how to make your own potent elderberry super syrup! \nYou will go home with 4 ounces of syrup to use at home\, a recipe and the knowledge you need to get you started making your own syrup and other great tips to support you and your family's immune systems this cold and flu season! \nFeel free to invite friends! \n$10 cost will provide you with the syrup\, light snacks and handouts and of course raffle prizes!!
URL:https://ohlardy.com/event/immune-supporting-elderberry-syrup-lake-forest/
LOCATION:Montessori School of Lake Forest\, 13700 West Laurel\, Lake Forest\, IL\, 60045\, United States
CATEGORIES:essential oils,real food
END:VEVENT
BEGIN:VEVENT
DTSTART;TZID=America/Chicago:20180607T100000
DTEND;TZID=America/Chicago:20180607T120000
DTSTAMP:20260419T071921
CREATED:20180515T164126Z
LAST-MODIFIED:20180515T164338Z
UID:22684-1528365600-1528372800@ohlardy.com
SUMMARY:The Art of Fermentation - Glencoe\, IL
DESCRIPTION:Join me at the Chicago Botanic Garden \n  \nhttps://www.chicagobotanic.org/adult_education/wellness_fitness/art_traditional_foods_fermentation
URL:https://ohlardy.com/event/the-art-of-fermentation-glencoe-il/
LOCATION:Chicago Botanic Garden\, 1000 Lake Cook Road\, Glencoe\, IL\, 60022\, United States
CATEGORIES:fermented foods,real food
END:VEVENT
BEGIN:VEVENT
DTSTART;TZID=America/Chicago:20180130T100000
DTEND;TZID=America/Chicago:20180130T120000
DTSTAMP:20260419T071921
CREATED:20180105T005701Z
LAST-MODIFIED:20180105T010233Z
UID:22432-1517306400-1517313600@ohlardy.com
SUMMARY:Traditional Foods for a Healthy Gut - Glencoe\, IL
DESCRIPTION:New! Before factory farms and processed foods\, people ate traditionally prepared nutrient-dense foods\, such as sourdough bread\, fermented sauerkraut\, and bone broth. These foods were not only tasty but very nutritious\, and people were relatively free of modern diseases. In this class\, you will learn how to prepare fermented foods such as sauerkraut\, berries\, and cultured salsa; and bone broth\, which is full of bioavailable minerals\, gelatin\, and collagen. Tamara Mannelly will share tips to get your whole family to enjoy these foods (yes…even the little ones). \nChicago Botanic Gardens \nRSVP HERE:  https://www.chicagobotanic.org/adult_education/wellness_fitness/traditional_foods_healthy_gut
URL:https://ohlardy.com/event/traditional-foods-for-a-healthy-gut-glencoe-il/
LOCATION:Chicago Botanic Garden\, 1000 Lake Cook Road\, Glencoe\, IL\, 60022\, United States
CATEGORIES:bone broth,fermented foods,real food
END:VEVENT
BEGIN:VEVENT
DTSTART;TZID=America/Chicago:20171119T190000
DTEND;TZID=America/Chicago:20171119T200000
DTSTAMP:20260419T071921
CREATED:20171107T221834Z
LAST-MODIFIED:20171107T221834Z
UID:22342-1511118000-1511121600@ohlardy.com
SUMMARY:Holiday Cooking with Young Living Vitality Oils - Online
DESCRIPTION:Join us for this free Facebook event: \nhttps://www.facebook.com/events/314384879040274/ \n  \nSunday 11/19  7 pm CST
URL:https://ohlardy.com/event/holiday-cooking-with-young-living-vitality-oils-online/
LOCATION:Facebook\, United States
CATEGORIES:essential oils,real food
END:VEVENT
BEGIN:VEVENT
DTSTART;TZID=America/Chicago:20170427T123000
DTEND;TZID=America/Chicago:20170427T140000
DTSTAMP:20260419T071921
CREATED:20170405T205143Z
LAST-MODIFIED:20170405T205354Z
UID:21935-1493296200-1493301600@ohlardy.com
SUMMARY:10 Ways to Look and Feel Younger - Highland Park\, IL
DESCRIPTION:This is a private event.  If you are interested in one\, please email tamara@ohlardy.com
URL:https://ohlardy.com/event/10-ways-to-look-and-feel-younger-highland-park-il/
LOCATION:AZ
CATEGORIES:bone broth,essential oils,Freedom Lifestyle,real food
END:VEVENT
BEGIN:VEVENT
DTSTART;TZID=America/Chicago:20170421T190000
DTEND;TZID=America/Chicago:20170421T220000
DTSTAMP:20260419T071921
CREATED:20170405T210113Z
LAST-MODIFIED:20170405T210113Z
UID:21937-1492801200-1492812000@ohlardy.com
SUMMARY:Ladies Night Out - Healthy Living Style\,  Mount Prospect\, IL
DESCRIPTION:Join in the fun for a night of good conversation and healthy living! \nThis is an open house event with drinks\, appetizers and amazing self-care opportunities. \n  \nRSVP here:  https://www.eventbrite.com/e/ladies-night-open-house-tickets-33297170734
URL:https://ohlardy.com/event/ladies-night-out-healthy-living-style-mount-prospect-il/
LOCATION:AZ
CATEGORIES:essential oils,Freedom Lifestyle,real food
END:VEVENT
BEGIN:VEVENT
DTSTART;TZID=America/Chicago:20170421T123000
DTEND;TZID=America/Chicago:20170421T123000
DTSTAMP:20260419T071921
CREATED:20170405T204730Z
LAST-MODIFIED:20170405T204730Z
UID:21933-1492777800-1492777800@ohlardy.com
SUMMARY:Sugar Busters - Libertyville\, IL
DESCRIPTION:This is a private event.  If you are interested in something similar\, please email tamara@ohlardy.com
URL:https://ohlardy.com/event/sugar-busters-libertyville-il/
LOCATION:AZ
CATEGORIES:real food
END:VEVENT
BEGIN:VEVENT
DTSTART;TZID=America/Chicago:20170412T120000
DTEND;TZID=America/Chicago:20170412T130000
DTSTAMP:20260419T071921
CREATED:20170406T170127Z
LAST-MODIFIED:20170406T170438Z
UID:21940-1491998400-1492002000@ohlardy.com
SUMMARY:10 Ways to Look and Feel Younger - Libertyville
DESCRIPTION:Are you tired?  Stressed?  Can't sleep?  Feel blah?  Can't focus?  Just all around scattered?   \nDo you want to support your body naturally?   \nEssential oils can help to provide extra support for your family to help strengthen overall wellness\, improve emotional balance and be used to detox your your home and body in so many ways! \nJoin us and learn how you can use healthy lifestyle techniquies\, food and essential oils help yourself look and feel younger – in less time than it takes to watch one show on Netflix!! \nIn this class\, Tamara\, Gold Leader with Young Living Essential Oils and owner of OhLardy.com\, will teach you: \n-How to naturally support healthy skin \nHow to support the immune system \n-How to support respiratory health \n-How to support digestive system \n-How to get a better night’s sleep \n-About products to purify and clean your home naturally (without toxic chemicals) \n-And so much more!! \nI have a small Essential Oil gift for you\, so be sure to email me at tamara@ohlardy.com after you RSVP to let me know that you would like to have it plus one question about essential oils that you hope to get answered! \nRSVP Below!
URL:https://ohlardy.com/event/10-ways-to-look-and-feel-younger-libertyville/
LOCATION:Mischief’s Brewing\, 725 N Milwaukee Ave\, Libertyville\, IL\, 60048\, United States
CATEGORIES:essential oils,real food
END:VEVENT
BEGIN:VEVENT
DTSTART;TZID=America/Chicago:20170108T200000
DTEND;TZID=America/Chicago:20170108T210000
DTSTAMP:20260419T071921
CREATED:20170102T211440Z
LAST-MODIFIED:20170108T195617Z
UID:21235-1483905600-1483909200@ohlardy.com
SUMMARY:Sugar Busters - Online
DESCRIPTION:Do you crave sweets? \nYou’re not alone! \nThe average American consumes 30 teaspoons of the sweet stuff every day–without even realizing it! \nSugar can pack on the pounds\, zap your energy\, run down your immune system\, make you moody\, and more. \nWouldn’t you love to kick the sugar habit once and for all? Join me for and online Sugar Busters workshop and start 2017 off right! \nI will show you simple steps and proven strategies to help you understand why you crave sugar (hint: it’s not your fault!) and how you can break sugar’s hold on you. \n  \nJoin me:  https://www.facebook.com/events/886621821474222/ 
URL:https://ohlardy.com/event/sugar-busters-online/
LOCATION:Facebook\, United States
CATEGORIES:essential oils,fermented foods,real food
ATTACH;FMTTYPE=image/jpeg:https://ohlardy.com/wp-content/uploads/2017/01/15826219_10154915558058887_8890501211903887655_n.jpg
END:VEVENT
BEGIN:VEVENT
DTSTART;TZID=America/Chicago:20161110T110000
DTEND;TZID=America/Chicago:20161110T130000
DTSTAMP:20260419T071921
CREATED:20160924T182653Z
LAST-MODIFIED:20161102T155839Z
UID:19584-1478775600-1478782800@ohlardy.com
SUMMARY:Sugar Busters - Glencoe\, IL
DESCRIPTION:Private Event at Chicago Botanic Gardens\nDo you crave sweets? You’re not alone! The average American consumes 30 teaspoons of the sweet stuff every day–without even realizing it! Sugar can pack on the pounds\, zap your energy\, run down your immune system\, make you moody\, and more. Wouldn’t you love to kick the sugar habit once and for all? Join us for the Sugar Busters workshop and change your life for the better! Tamara Mannelly will show you simple steps and proven strategies to help you understand why you crave sugar (hint: it’s not your fault!) and how you can break sugar’s hold on you. This is a positive and uplifting class where all are welcome. \nIf you are interested in this topic\, email Tamara at tamara@ohlardy.com \n 
URL:https://ohlardy.com/event/sugar-busters-glencoe-il/
LOCATION:Chicago Botanic Garden\, 1000 Lake Cook Road\, Glencoe\, IL\, 60022\, United States
CATEGORIES:real food
END:VEVENT
BEGIN:VEVENT
DTSTART;TZID=America/Chicago:20160913T100000
DTEND;TZID=America/Chicago:20160913T120000
DTSTAMP:20260419T071921
CREATED:20160815T141212Z
LAST-MODIFIED:20160815T141328Z
UID:19149-1473760800-1473768000@ohlardy.com
SUMMARY:The Art of Traditional Foods - Glencoe\, IL
DESCRIPTION:Before factory farms and processed foods\, people ate traditionally prepared nutrient-dense foods\, such as sourdough bread\, fermented sauerkraut\, and bone broth. These foods were not only tasty but very nutritious\, and the people were relatively free of modern diseases. \nIn this class you will learn how to prepare fermented foods such as sauerkraut\, berries\, and cultured salsa; and bone broth\, which is full of bioavailable minerals\, gelatin\, and collagen. Tamara Mannelly will share tips to get your whole family to enjoy these foods (yes…even the little ones). You will sample some fermented items\, and will receive a pint of frozen bone broth to take home. \nThis class costs $49 with an optional fermentation starter kit $20.  It is at the Chicago Botanic Garden. \nRegister here–> http://www.chicagobotanic.org/education/wellness_and_fitness/art_traditional_foods_fermentation_and_bone_broth_0
URL:https://ohlardy.com/event/the-art-of-traditional-foods-glencoe-il/
LOCATION:Chicago Botanic Garden\, 1000 Lake Cook Road\, Glencoe\, IL\, 60022\, United States
CATEGORIES:bone broth,fermented foods,real food
END:VEVENT
BEGIN:VEVENT
DTSTART;TZID=America/Chicago:20160120T103000
DTEND;TZID=America/Chicago:20160120T113000
DTSTAMP:20260419T071921
CREATED:20150731T212914Z
LAST-MODIFIED:20151229T151738Z
UID:15296-1453285800-1453289400@ohlardy.com
SUMMARY:Sugar Busters - Chicago
DESCRIPTION:Sugar Busters \nChicago Botanic Gardens – email for more info tamara@ohlardy.com\nDo you crave sweets? You’re not alone! The average American consumes 30 teaspoons of the sweet stuff every day–without even realizing it! Sugar can pack on the pounds\, zap your energy\, run down your immune system\, make you moody\, and more. Wouldn’t you love to kick the sugar habit once and for all? Join us for the Sugar Busters workshop and change your life for the better! Tamara Mannelly will show you simple steps and proven strategies to help you understand why you crave sugar (hint: it’s not your fault!) and how you can break sugar’s hold on you. This is a positive and uplifting class where all are welcome. \nTamara Mannelly\, M.Ed.\, H.H.C.\, certified healing foods specialist and holistic health coach\n$19 nonmember; members receive 20% discount\nWednesday\, January 20\, 10:30 – 11:30 a.m.\nLakeside Room\, Visitor Center\n \n  \nREGISTER HERE
URL:https://ohlardy.com/event/sugar-busters-chicago/
LOCATION:Chicago Botanic Garden\, 1000 Lake Cook Road\, Glencoe\, IL\, 60022\, United States
CATEGORIES:real food
END:VEVENT
BEGIN:VEVENT
DTSTART;TZID=America/Chicago:20151119T210000
DTEND;TZID=America/Chicago:20151119T213000
DTSTAMP:20260419T071921
CREATED:20151118T161233Z
LAST-MODIFIED:20151118T161233Z
UID:16628-1447966800-1447968600@ohlardy.com
SUMMARY:NingXia Red - A Whole Body Nutrient Infusion
DESCRIPTION:NingXia Red is one of Young Living’s most popular wellness supplements. It’s a nutrient-rich drink infused with antioxidant-providing superfruits and powerful essential oils. NingXia Red contains vital nutrients that may be missing or low in many modern diets and that could be the key to experiencing abundant wellness and energy. It is the perfect way to start the day. \nDon't worry if you can't make the actual time. I will keep the class up for a few days! \nLearn about NingXia Red and NingXia Nitro in this great educational class!! \nJoin me on Facebook:  https://www.facebook.com/events/181284738882416/
URL:https://ohlardy.com/event/ningxia-red-a-whole-body-nutrient-infusion/
LOCATION:Facebook\, United States
CATEGORIES:essential oils,real food
END:VEVENT
BEGIN:VEVENT
DTSTART;TZID=America/Chicago:20141008T190000
DTEND;TZID=America/Chicago:20141008T210000
DTSTAMP:20260419T071921
CREATED:20140808T143153Z
LAST-MODIFIED:20140909T162144Z
UID:11152-1412794800-1412802000@ohlardy.com
SUMMARY:Healthy Soda Alternatives - Chicagoland
DESCRIPTION:Are you looking for healthy ways to quit the soda habit?\nI will demonstrate several different recipes for making healthy\, probiotic-rich\, fizzy drinks that your whole family will enjoy!\nRecipes include: kombucha\, water kefir\, ginger bug\, lacto-fermented soda and more!\nI will have plenty for you to taste and will show you how easy it is to make these in your own home!\nYou will be able to take home notes\, recipes\, and a kombucha SCOBY (to make your own kombucha tea…one of the recipes she will demo).\n\nInterested in attending?  Email me at ohlardyblog@gmail.com \nSee below for more details on this healthy soda alternatives class!
URL:https://ohlardy.com/event/healthy-soda-alternatives-chicagoland/
LOCATION:AZ
CATEGORIES:fermented foods,real food
END:VEVENT
END:VCALENDAR